BEGIN:VCALENDAR
VERSION:2.0
PRODID:-//Bergstedter Schachklub - ECPv6.15.20//NONSGML v1.0//EN
CALSCALE:GREGORIAN
METHOD:PUBLISH
X-WR-CALNAME:Bergstedter Schachklub
X-ORIGINAL-URL:https://bergstedter-schachklub.de
X-WR-CALDESC:Veranstaltungen für Bergstedter Schachklub
REFRESH-INTERVAL;VALUE=DURATION:PT1H
X-Robots-Tag:noindex
X-PUBLISHED-TTL:PT1H
BEGIN:VTIMEZONE
TZID:Europe/Berlin
BEGIN:DAYLIGHT
TZOFFSETFROM:+0100
TZOFFSETTO:+0200
TZNAME:CEST
DTSTART:20210328T010000
END:DAYLIGHT
BEGIN:STANDARD
TZOFFSETFROM:+0200
TZOFFSETTO:+0100
TZNAME:CET
DTSTART:20211031T010000
END:STANDARD
BEGIN:DAYLIGHT
TZOFFSETFROM:+0100
TZOFFSETTO:+0200
TZNAME:CEST
DTSTART:20220327T010000
END:DAYLIGHT
BEGIN:STANDARD
TZOFFSETFROM:+0200
TZOFFSETTO:+0100
TZNAME:CET
DTSTART:20221030T010000
END:STANDARD
BEGIN:DAYLIGHT
TZOFFSETFROM:+0100
TZOFFSETTO:+0200
TZNAME:CEST
DTSTART:20230326T010000
END:DAYLIGHT
BEGIN:STANDARD
TZOFFSETFROM:+0200
TZOFFSETTO:+0100
TZNAME:CET
DTSTART:20231029T010000
END:STANDARD
BEGIN:DAYLIGHT
TZOFFSETFROM:+0100
TZOFFSETTO:+0200
TZNAME:CEST
DTSTART:20240331T010000
END:DAYLIGHT
BEGIN:STANDARD
TZOFFSETFROM:+0200
TZOFFSETTO:+0100
TZNAME:CET
DTSTART:20241027T010000
END:STANDARD
BEGIN:DAYLIGHT
TZOFFSETFROM:+0100
TZOFFSETTO:+0200
TZNAME:CEST
DTSTART:20250330T010000
END:DAYLIGHT
BEGIN:STANDARD
TZOFFSETFROM:+0200
TZOFFSETTO:+0100
TZNAME:CET
DTSTART:20251026T010000
END:STANDARD
BEGIN:DAYLIGHT
TZOFFSETFROM:+0100
TZOFFSETTO:+0200
TZNAME:CEST
DTSTART:20260329T010000
END:DAYLIGHT
BEGIN:STANDARD
TZOFFSETFROM:+0200
TZOFFSETTO:+0100
TZNAME:CET
DTSTART:20261025T010000
END:STANDARD
END:VTIMEZONE
BEGIN:VEVENT
DTSTART;TZID=Europe/Berlin:20250909T184500
DTEND;TZID=Europe/Berlin:20250909T184500
DTSTAMP:20260419T152344
CREATED:20250612T175823Z
LAST-MODIFIED:20250617T214010Z
UID:4710-1757443500-1757443500@bergstedter-schachklub.de
SUMMARY:Dähne-Pokal 2025 Vorrunde 3
DESCRIPTION:Beim Dähnepokal werden Partien mit 90 min für 40 Züge mit weiteren 30 min nach Erreichen der 40 Züge gespielt. Wobei eine Partie in der dritten Vorrunde ausgespielt wird. Der Gewinner dieser Partie qualifiziert sich für die ersten Hauptrunde des Dähnepokals. \nGewinner der zweiten Vorrunde können an der dritte Vorrunde des Dähnepokals mitspielen. \nDie Anmeldung zur dritten Vorrunde des Dähne-Pokal findet zwischen 18:45 und 18:55 im Willi Becker Saal des Senator-Neumann-Hauses statt. \nDie Auslosung der Parteipaarungen erfolgt dann zwischen 18:55 und 19:00. Damit die Partien pünktlich um 19:00 beginnen können\, können Spieler\, die nach 18:55 eintreffen nicht an der dritten Vorrunde des Dähnepokals teilnehmen.
URL:https://bergstedter-schachklub.de/event/daehne-pokal-2025-vorrunde-3/
LOCATION:Senator-Neumann-Haus\, Heinrich-von-Ohlendorff-Straße 20\, Hamburg\, 22359
END:VEVENT
BEGIN:VEVENT
DTSTART;TZID=Europe/Berlin:20250902T184500
DTEND;TZID=Europe/Berlin:20250902T184500
DTSTAMP:20260419T152344
CREATED:20250612T175720Z
LAST-MODIFIED:20250617T214130Z
UID:4708-1756838700-1756838700@bergstedter-schachklub.de
SUMMARY:Dähne-Pokal 2025 Vorrunde 2
DESCRIPTION:Beim Dähnepokal werden Partien mit 90 min für 40 Züge mit weiteren 30 min nach Erreichen der 40 Züge gespielt. Wobei eine Partie in der zweiten Vorrunde ausgespielt wird. Der Gewinner dieser Partie qualifiziert sich für die dritte Vorrunde des Dähnepokals. \n  \nBei der zweiten Vorrunde des Dähnepokals können Spieler mit min. DWZ von 1900 ohne Qualifizierung und Gewinner der ersten Vorrunde mitspielen. \n  \nDie Anmeldung zur zweiten Vorrunde des Dähne-Pokal findet zwischen 18:45 und 18:55 im Willi Becker Saal des Senator-Neumann-Hauses statt. \n  \nDie Auslosung der Parteipaarungen erfolgt dann zwischen 18:55 und 19:00. Damit die Partien pünktlich um 19:00 beginnen können\, können Spieler\, die nach 18:55 eintreffen nicht an der zweiten Vorrunde des Dähnepokals teilnehmen.
URL:https://bergstedter-schachklub.de/event/daehne-pokal-2025-vorrunde-2/
LOCATION:Senator-Neumann-Haus\, Heinrich-von-Ohlendorff-Straße 20\, Hamburg\, 22359
END:VEVENT
BEGIN:VEVENT
DTSTART;TZID=Europe/Berlin:20250826T184500
DTEND;TZID=Europe/Berlin:20250826T184500
DTSTAMP:20260419T152344
CREATED:20250612T175551Z
LAST-MODIFIED:20250617T213504Z
UID:4706-1756233900-1756233900@bergstedter-schachklub.de
SUMMARY:Dähne-Pokal 2025 Vorrunde 1
DESCRIPTION:Beim Dähnepokal werden Partien mit 90 min für 40 Züge mit weiteren 30 min nach  Erreichen der 40 Züge gespielt. Wobei eine Partie in der ersten Vorrunde ausgespielt wird. Der Gewinner dieser Partie qualifiziert sich für die zweite Vorrunde des Dähnepokals. \nBei der ersten Vorrunde des Dähnepokals können Spieler mit einer max. DWZ von 1900 teilnehmen. \nDie Anmeldung zur ersten Vorrunde des Dähne-Pokal findet zwischen 18:45 und 18:55 im Willi Becker Saal des Senator-Neumann-Hauses statt. \nDie Auslosung der Parteipaarungen erfolgt dann zwischen 18:55 und 19:00. Damit die Partien pünktlich um 19:00 beginnen können\, können Spieler\, die nach 18:55 eintreffen nicht an der ersten Vorrunde des Dähnepokals teilnehmen.
URL:https://bergstedter-schachklub.de/event/daehne-pokal-2025-vorrunde-1/
LOCATION:Senator-Neumann-Haus\, Heinrich-von-Ohlendorff-Straße 20\, Hamburg\, 22359
END:VEVENT
BEGIN:VEVENT
DTSTART;TZID=Europe/Berlin:20250701T190000
DTEND;TZID=Europe/Berlin:20250701T190000
DTSTAMP:20260419T152344
CREATED:20250630T200646Z
LAST-MODIFIED:20250630T200646Z
UID:4756-1751396400-1751396400@bergstedter-schachklub.de
SUMMARY:Rückblick\, HMM 2025
DESCRIPTION:ab 19 Uhr lassen wir die Hamburger Mannschaftsmeisterschaft 2025 Revue passieren. \n  \nEs werden Partie am Demobrett gezeigt.
URL:https://bergstedter-schachklub.de/event/rueckblick-hmm-2025/
LOCATION:Senator-Neumann-Haus\, Heinrich-von-Ohlendorff-Straße 20\, Hamburg\, 22359
END:VEVENT
BEGIN:VEVENT
DTSTART;TZID=Europe/Berlin:20250624T190000
DTEND;TZID=Europe/Berlin:20250624T190000
DTSTAMP:20260419T152344
CREATED:20250612T174950Z
LAST-MODIFIED:20250612T174950Z
UID:4704-1750791600-1750791600@bergstedter-schachklub.de
SUMMARY:HMM Runde 9. Bergstedt - Großhansdorf II
DESCRIPTION:
URL:https://bergstedter-schachklub.de/event/hmm-runde-9-bergstedt-grosshansdorf-ii/
LOCATION:Senator-Neumann-Haus\, Heinrich-von-Ohlendorff-Straße 20\, Hamburg\, 22359
END:VEVENT
BEGIN:VEVENT
DTSTART;VALUE=DATE:20250523
DTEND;VALUE=DATE:20250527
DTSTAMP:20260419T152344
CREATED:20250427T194903Z
LAST-MODIFIED:20250503T123455Z
UID:4458-1747962000-1748221199@bergstedter-schachklub.de
SUMMARY:Ströbecker Mai-Schachturnier 2025
DESCRIPTION:Werte Schachfreunde\, \ndas traditionelle Mai-Schachturnier für Vierermannschaften findet dieses Jahr am 24.05.2025 zum 61. Mal in Ströbeck seit 1960 statt! \nBeginn: 9.00 Uhr\nEnde: 16.00 Uhr\nSpiellokal: (Neu) Sporthalle\, Untere Dorfstraße 202a\, 38822 Schachdorf Ströbeck \nSpielmodus: Die Gruppierung erfolgt von der Turierleitung vor Ort. Gespielt wird in drei Gruppen – je Mannschaft 4 Spieler.\nBedenkzeit: 10 Minuten/ Spieler/ Partie.\nWertung: Brettpunkte / Mannschaftspunkte / Sonneborn-Berger.\nIn jeder Gruppe spielen maximal 15 Mannschaften. \nDas Siegerteam der Gruppe A erhalt den Wanderpokal des Schachdorfes Ströbeck.\nDie 3 Erstplatzierten jeder Gruppe erhalten eine Urkunde. \nDer Bergstedter Schachklub kann mit zwei Mannschaften antreten.
URL:https://bergstedter-schachklub.de/event/stroebecker-mai-schachturnier-2025/
CATEGORIES:Schachreise
END:VEVENT
BEGIN:VEVENT
DTSTART;TZID=Europe/Berlin:20250513T190000
DTEND;TZID=Europe/Berlin:20250513T190000
DTSTAMP:20260419T152344
CREATED:20250427T195408Z
LAST-MODIFIED:20250427T195605Z
UID:4460-1747162800-1747162800@bergstedter-schachklub.de
SUMMARY:HMM Runde 7. Sasel II - Bergstedt
DESCRIPTION:
URL:https://bergstedter-schachklub.de/event/hmm-runde-7-sasel-ii-bergstedt/
LOCATION:Sasel\, Tagesstätte Roter Hahn\, Kunaustr. 4\,\, Hamburg\, Hamburg\, 22393
END:VEVENT
BEGIN:VEVENT
DTSTART;TZID=Europe/Berlin:20250506T190000
DTEND;TZID=Europe/Berlin:20250506T190000
DTSTAMP:20260419T152344
CREATED:20250427T214142Z
LAST-MODIFIED:20250502T142621Z
UID:4469-1746558000-1746558000@bergstedter-schachklub.de
SUMMARY:Freier Spieleabend/Schachtraining
DESCRIPTION:
URL:https://bergstedter-schachklub.de/event/freier-spieleabend-schachtraining-2/
LOCATION:Senator-Neumann-Haus\, Heinrich-von-Ohlendorff-Straße 20\, Hamburg\, 22359
END:VEVENT
BEGIN:VEVENT
DTSTART;TZID=Europe/Berlin:20250504T100000
DTEND;TZID=Europe/Berlin:20250504T160000
DTSTAMP:20260419T152344
CREATED:20250427T104421Z
LAST-MODIFIED:20250427T190051Z
UID:4446-1746352800-1746374400@bergstedter-schachklub.de
SUMMARY:Bunte Meile 2025
DESCRIPTION:der Bergstedter SK wird nach längerer Pause wieder mit einem „Schachstand“ bei der „Bunten Meile Bergstedt“ vertreten sein.  \nStartseite \n\nhttps://bergstedt.hamburg/termin/bunte-meile-bergstedt-2025/   \nTermin und Ort:\nSonntag\, 4. Mai 2025 von 10 bis 16 Uhr\nwohl wieder in der Nähe von „Kaufhaus Hillmer“ (Volksdorfer Damm 270)\, ein Stück weiter in der Kurve  \nWir spielen gegen die Besucher unseres „Schachstands“ und werben so für unseren Verein.
URL:https://bergstedter-schachklub.de/event/bunte-meile-2025/
LOCATION:Bunte Meile\, Bergstedter Kirche\, Hamburg\, 22395
END:VEVENT
BEGIN:VEVENT
DTSTART;TZID=Europe/Berlin:20250429T190000
DTEND;TZID=Europe/Berlin:20250429T190000
DTSTAMP:20260419T152345
CREATED:20250427T214012Z
LAST-MODIFIED:20250427T214012Z
UID:4466-1745953200-1745953200@bergstedter-schachklub.de
SUMMARY:Freier Spieleabend/Schachtraining
DESCRIPTION:
URL:https://bergstedter-schachklub.de/event/freier-spieleabend-schachtraining/
LOCATION:Senator-Neumann-Haus\, Heinrich-von-Ohlendorff-Straße 20\, Hamburg\, 22359
END:VEVENT
BEGIN:VEVENT
DTSTART;TZID=Europe/Berlin:20221228T163000
DTEND;TZID=Europe/Berlin:20221228T183000
DTSTAMP:20260419T152345
CREATED:20221122T195527Z
LAST-MODIFIED:20221122T195527Z
UID:4261-1672245000-1672252200@bergstedter-schachklub.de
SUMMARY:Jugendschach
DESCRIPTION:Schach für Jugendliche geht nach langer „Corona-Pause“ weiter! \nJugendliche Gäste sind natürlich herzlich willkommen! \nTeilnahme möglichst mit Voranmeldung.
URL:https://bergstedter-schachklub.de/event/jugendschach-67/
LOCATION:Gemeindehaus der Bergstedter Kirche\, Volksdorfer Damm 268\, Hamburg\, 22395\, Deutschland
CATEGORIES:Jugendtraining
END:VEVENT
BEGIN:VEVENT
DTSTART;TZID=Europe/Berlin:20221227T190000
DTEND;TZID=Europe/Berlin:20221227T190000
DTSTAMP:20260419T152345
CREATED:20221122T194500Z
LAST-MODIFIED:20221122T194500Z
UID:4245-1672167600-1672167600@bergstedter-schachklub.de
SUMMARY:Spielabend dienstags ab 19:00 Uhr
DESCRIPTION:Liebe Schachfreunde\, \nunser Spielabend findet ab sofort dienstags um 19 Uhr im Gemeindeshaus der Bergstedter Kirche statt! (*) \nKommt gerne bei uns vorbei! \nMit schachlichen Grüßen\nDer Vorstand des Bergstedter SK \n  \n* = Ausnahme: 1. Dienstag im Monat: kein Schach vor Ort\, sondern Online-Spielabend\, Videokonferenz (Teams) und Lichess. Wer mitspielen möchte\, meldet sich einfach bei uns.
URL:https://bergstedter-schachklub.de/event/spielabend-dienstags-ab-1900-uhr-8/
LOCATION:Gemeindehaus der Bergstedter Kirche\, Volksdorfer Damm 268\, Hamburg\, 22395\, Deutschland
CATEGORIES:Training
END:VEVENT
BEGIN:VEVENT
DTSTART;TZID=Europe/Berlin:20221221T163000
DTEND;TZID=Europe/Berlin:20221221T183000
DTSTAMP:20260419T152345
CREATED:20221122T195438Z
LAST-MODIFIED:20221212T170640Z
UID:4259-1671640200-1671647400@bergstedter-schachklub.de
SUMMARY:Jugendschach
DESCRIPTION:Schach für Jugendliche geht nach langer „Corona-Pause“ weiter! \nJugendliche Gäste sind natürlich herzlich willkommen! \nTeilnahme möglichst mit Voranmeldung.
URL:https://bergstedter-schachklub.de/event/jugendschach-65/
LOCATION:Gemeindehaus der Bergstedter Kirche\, Volksdorfer Damm 268\, Hamburg\, 22395\, Deutschland
CATEGORIES:Jugendtraining
END:VEVENT
BEGIN:VEVENT
DTSTART;TZID=Europe/Berlin:20221220T190000
DTEND;TZID=Europe/Berlin:20221220T190000
DTSTAMP:20260419T152345
CREATED:20221212T165141Z
LAST-MODIFIED:20221212T170542Z
UID:4265-1671562800-1671562800@bergstedter-schachklub.de
SUMMARY:Blitzmeisterschaft 2022
DESCRIPTION:Am Dienstag\,  20.12.22\, um 19.00 Uhr (19.30 Uhr) findet die Blitzmeisterschaft des Bergstedter SK statt. Auch vereinslose Schachspieler sind herzlich zu einer Teilnahme eingeladen! Bitte melden Sie sich einfach über unser Kontaktformular an. \n 
URL:https://bergstedter-schachklub.de/event/blitzmeisterschaft-2022/
LOCATION:Gemeindehaus der Bergstedter Kirche\, Volksdorfer Damm 268\, Hamburg\, 22395\, Deutschland
CATEGORIES:Blitzmeisterschaft
END:VEVENT
BEGIN:VEVENT
DTSTART;VALUE=DATE:20221214
DTEND;VALUE=DATE:20221216
DTSTAMP:20260419T152345
CREATED:20221122T195359Z
LAST-MODIFIED:20221212T170438Z
UID:4257-1670979600-1671065999@bergstedter-schachklub.de
SUMMARY:Jugendblitzmeisterschaft 2022
DESCRIPTION:Am Mittwoch\,  14.12.22\, um 16.30 Uhr (17 Uhr) findet die beliebte Jugendblitzmeisterschaft des Bergstedter SK statt.\nAuch vereinslose Jugendliche sind herzlich zu einer Teilnahme eingeladen! Bitte meldet euch einfach über unser Kontaktformular an.
URL:https://bergstedter-schachklub.de/event/jugendblitzmeisterschaft-2022/
LOCATION:Gemeindehaus der Bergstedter Kirche\, Volksdorfer Damm 268\, Hamburg\, 22395\, Deutschland
CATEGORIES:Jugendblitzmeisterschaft
END:VEVENT
BEGIN:VEVENT
DTSTART;VALUE=DATE:20221213
DTEND;VALUE=DATE:20221215
DTSTAMP:20260419T152345
CREATED:20221122T194930Z
LAST-MODIFIED:20221212T170300Z
UID:4248-1670893200-1670979599@bergstedter-schachklub.de
SUMMARY:KEIN Schach am 13.12. !
DESCRIPTION:Am Dienstag\,  13.12.22 muss Schach beim Bergstedter SK leider einmal ausfallen! \n 
URL:https://bergstedter-schachklub.de/event/kein-schach-13-12/
END:VEVENT
BEGIN:VEVENT
DTSTART;TZID=Europe/Berlin:20221207T163000
DTEND;TZID=Europe/Berlin:20221207T183000
DTSTAMP:20260419T152345
CREATED:20221122T195305Z
LAST-MODIFIED:20221122T195305Z
UID:4255-1670430600-1670437800@bergstedter-schachklub.de
SUMMARY:Jugendschach
DESCRIPTION:Schach für Jugendliche geht nach langer „Corona-Pause“ weiter! \nJugendliche Gäste sind natürlich herzlich willkommen! \nTeilnahme möglichst mit Voranmeldung.
URL:https://bergstedter-schachklub.de/event/jugendschach-64/
LOCATION:Gemeindehaus der Bergstedter Kirche\, Volksdorfer Damm 268\, Hamburg\, 22395\, Deutschland
CATEGORIES:Jugendtraining
END:VEVENT
BEGIN:VEVENT
DTSTART;TZID=Europe/Berlin:20221130T163000
DTEND;TZID=Europe/Berlin:20221130T183000
DTSTAMP:20260419T152345
CREATED:20221122T195206Z
LAST-MODIFIED:20221122T195206Z
UID:4253-1669825800-1669833000@bergstedter-schachklub.de
SUMMARY:Jugendschach
DESCRIPTION:Schach für Jugendliche geht nach langer „Corona-Pause“ weiter! \nJugendliche Gäste sind natürlich herzlich willkommen! \nTeilnahme möglichst mit Voranmeldung.
URL:https://bergstedter-schachklub.de/event/jugendschach-63/
LOCATION:Gemeindehaus der Bergstedter Kirche\, Volksdorfer Damm 268\, Hamburg\, 22395\, Deutschland
CATEGORIES:Jugendtraining
END:VEVENT
BEGIN:VEVENT
DTSTART;TZID=Europe/Berlin:20221129T190000
DTEND;TZID=Europe/Berlin:20221129T190000
DTSTAMP:20260419T152345
CREATED:20221122T194349Z
LAST-MODIFIED:20221122T194349Z
UID:4243-1669748400-1669748400@bergstedter-schachklub.de
SUMMARY:Spielabend dienstags ab 19:00 Uhr
DESCRIPTION:Liebe Schachfreunde\, \nunser Spielabend findet ab sofort dienstags um 19 Uhr im Gemeindeshaus der Bergstedter Kirche statt! (*) \nKommt gerne bei uns vorbei! \nMit schachlichen Grüßen\nDer Vorstand des Bergstedter SK \n  \n* = Ausnahme: 1. Dienstag im Monat: kein Schach vor Ort\, sondern Online-Spielabend\, Videokonferenz (Teams) und Lichess. Wer mitspielen möchte\, meldet sich einfach bei uns.
URL:https://bergstedter-schachklub.de/event/spielabend-dienstags-ab-1900-uhr-7/
LOCATION:Gemeindehaus der Bergstedter Kirche\, Volksdorfer Damm 268\, Hamburg\, 22395\, Deutschland
CATEGORIES:Training
END:VEVENT
BEGIN:VEVENT
DTSTART;TZID=Europe/Berlin:20221123T163000
DTEND;TZID=Europe/Berlin:20221123T183000
DTSTAMP:20260419T152345
CREATED:20221122T195114Z
LAST-MODIFIED:20221122T195114Z
UID:4251-1669221000-1669228200@bergstedter-schachklub.de
SUMMARY:Jugendschach
DESCRIPTION:Schach für Jugendliche geht nach langer „Corona-Pause“ weiter! \nJugendliche Gäste sind natürlich herzlich willkommen! \nTeilnahme möglichst mit Voranmeldung.
URL:https://bergstedter-schachklub.de/event/jugendschach-62/
LOCATION:Gemeindehaus der Bergstedter Kirche\, Volksdorfer Damm 268\, Hamburg\, 22395\, Deutschland
CATEGORIES:Jugendtraining
END:VEVENT
BEGIN:VEVENT
DTSTART;TZID=Europe/Berlin:20221122T190000
DTEND;TZID=Europe/Berlin:20221122T190000
DTSTAMP:20260419T152345
CREATED:20221122T194305Z
LAST-MODIFIED:20221122T194305Z
UID:4241-1669143600-1669143600@bergstedter-schachklub.de
SUMMARY:Spielabend dienstags ab 19:00 Uhr
DESCRIPTION:Liebe Schachfreunde\, \nunser Spielabend findet ab sofort dienstags um 19 Uhr im Gemeindeshaus der Bergstedter Kirche statt! (*) \nKommt gerne bei uns vorbei! \nMit schachlichen Grüßen\nDer Vorstand des Bergstedter SK \n  \n* = Ausnahme: 1. Dienstag im Monat: kein Schach vor Ort\, sondern Online-Spielabend\, Videokonferenz (Teams) und Lichess. Wer mitspielen möchte\, meldet sich einfach bei uns.
URL:https://bergstedter-schachklub.de/event/spielabend-dienstags-ab-1900-uhr-6/
LOCATION:Gemeindehaus der Bergstedter Kirche\, Volksdorfer Damm 268\, Hamburg\, 22395\, Deutschland
CATEGORIES:Training
END:VEVENT
BEGIN:VEVENT
DTSTART;TZID=Europe/Berlin:20221116T163000
DTEND;TZID=Europe/Berlin:20221116T183000
DTSTAMP:20260419T152345
CREATED:20221122T195026Z
LAST-MODIFIED:20221122T195026Z
UID:4237-1668616200-1668623400@bergstedter-schachklub.de
SUMMARY:Jugendschach
DESCRIPTION:Schach für Jugendliche geht nach langer „Corona-Pause“ weiter! \nJugendliche Gäste sind natürlich herzlich willkommen! \nTeilnahme möglichst mit Voranmeldung.
URL:https://bergstedter-schachklub.de/event/jugendschach-61/
LOCATION:Gemeindehaus der Bergstedter Kirche\, Volksdorfer Damm 268\, Hamburg\, 22395\, Deutschland
CATEGORIES:Jugendtraining
END:VEVENT
BEGIN:VEVENT
DTSTART;TZID=Europe/Berlin:20221115T190000
DTEND;TZID=Europe/Berlin:20221115T190000
DTSTAMP:20260419T152345
CREATED:20221122T194213Z
LAST-MODIFIED:20221122T194213Z
UID:4234-1668538800-1668538800@bergstedter-schachklub.de
SUMMARY:Spielabend dienstags ab 19:00 Uhr
DESCRIPTION:Liebe Schachfreunde\, \nunser Spielabend findet ab sofort dienstags um 19 Uhr im Gemeindeshaus der Bergstedter Kirche statt! (*) \nKommt gerne bei uns vorbei! \nMit schachlichen Grüßen\nDer Vorstand des Bergstedter SK \n  \n* = Ausnahme: 1. Dienstag im Monat: kein Schach vor Ort\, sondern Online-Spielabend\, Videokonferenz (Teams) und Lichess. Wer mitspielen möchte\, meldet sich einfach bei uns.
URL:https://bergstedter-schachklub.de/event/spielabend-dienstags-ab-1900-uhr-5/
LOCATION:Gemeindehaus der Bergstedter Kirche\, Volksdorfer Damm 268\, Hamburg\, 22395\, Deutschland
CATEGORIES:Training
END:VEVENT
BEGIN:VEVENT
DTSTART;TZID=Europe/Berlin:20221109T163000
DTEND;TZID=Europe/Berlin:20221109T183000
DTSTAMP:20260419T152345
CREATED:20221103T220331Z
LAST-MODIFIED:20221103T220331Z
UID:4233-1668011400-1668018600@bergstedter-schachklub.de
SUMMARY:Jugendschach
DESCRIPTION:Schach für Jugendliche geht nach langer „Corona-Pause“ weiter! \nJugendliche Gäste sind natürlich herzlich willkommen! \nTeilnahme möglichst mit Voranmeldung.
URL:https://bergstedter-schachklub.de/event/jugendschach-60/
LOCATION:Gemeindehaus der Bergstedter Kirche\, Volksdorfer Damm 268\, Hamburg\, 22395\, Deutschland
CATEGORIES:Jugendtraining
END:VEVENT
BEGIN:VEVENT
DTSTART;TZID=Europe/Berlin:20221108T190000
DTEND;TZID=Europe/Berlin:20221108T190000
DTSTAMP:20260419T152345
CREATED:20221026T230314Z
LAST-MODIFIED:20221026T230314Z
UID:4224-1667934000-1667934000@bergstedter-schachklub.de
SUMMARY:Spielabend dienstags ab 19:00 Uhr
DESCRIPTION:Liebe Schachfreunde\, \nunser Spielabend findet ab sofort dienstags um 19 Uhr im Gemeindeshaus der Bergstedter Kirche statt! (*) \nKommt gerne bei uns vorbei! \nMit schachlichen Grüßen\nDer Vorstand des Bergstedter SK \n  \n* = Ausnahme: 1. Dienstag im Monat: kein Schach vor Ort\, sondern Online-Spielabend\, Videokonferenz (Teams) und Lichess. Wer mitspielen möchte\, meldet sich einfach bei uns.
URL:https://bergstedter-schachklub.de/event/spielabend-dienstags-ab-1900-uhr-4/
LOCATION:Gemeindehaus der Bergstedter Kirche\, Volksdorfer Damm 268\, Hamburg\, 22395\, Deutschland
CATEGORIES:Training
END:VEVENT
BEGIN:VEVENT
DTSTART;TZID=Europe/Berlin:20221102T163000
DTEND;TZID=Europe/Berlin:20221102T183000
DTSTAMP:20260419T152345
CREATED:20221026T230232Z
LAST-MODIFIED:20221026T230232Z
UID:4226-1667406600-1667413800@bergstedter-schachklub.de
SUMMARY:Jugendschach
DESCRIPTION:Schach für Jugendliche geht nach langer „Corona-Pause“ weiter! \nJugendliche Gäste sind natürlich herzlich willkommen! \nTeilnahme möglichst mit Voranmeldung.
URL:https://bergstedter-schachklub.de/event/jugendschach-59/
LOCATION:Gemeindehaus der Bergstedter Kirche\, Volksdorfer Damm 268\, Hamburg\, 22395\, Deutschland
CATEGORIES:Jugendtraining
END:VEVENT
BEGIN:VEVENT
DTSTART;TZID=Europe/Berlin:20221101T190000
DTEND;TZID=Europe/Berlin:20221101T190000
DTSTAMP:20260419T152345
CREATED:20221026T230141Z
LAST-MODIFIED:20221026T230141Z
UID:4196-1667329200-1667329200@bergstedter-schachklub.de
SUMMARY:Digitaler Spielabend dienstags ab 19:00 Uhr
DESCRIPTION:Hallo liebe Schachfreunde\, \nwir haben beschlossen\, unseren Spielabend bis auf weiteres digital abzuhalten. \nZur gewohnten Zeit (dienstags ab 19:00 Uhr) möchten wir zusammenkommen\, quatschen und natürlich Schach spielen. \nFür die Teilnahme einfach dienstags ab 19:00 Uhr diesen Link klicken. (Der Link wurde per E-Mail verschickt.)\n⇒ Wer auch teilnehmen möchte\, meldet sich einfach bei uns. ⇐ \nLiebe Grüße\nPaul \n(Paul Offner\, 1. Vorsitzender)
URL:https://bergstedter-schachklub.de/event/digitaler-spielabend-dienstags-ab-1900-uhr-81/
CATEGORIES:Training,Turnier
END:VEVENT
BEGIN:VEVENT
DTSTART;TZID=Europe/Berlin:20221026T163000
DTEND;TZID=Europe/Berlin:20221026T183000
DTSTAMP:20260419T152345
CREATED:20221010T185146Z
LAST-MODIFIED:20221010T185146Z
UID:4222-1666801800-1666809000@bergstedter-schachklub.de
SUMMARY:Jugendschach
DESCRIPTION:Schach für Jugendliche geht nach langer „Corona-Pause“ weiter! \nJugendliche Gäste sind natürlich herzlich willkommen! \nTeilnahme möglichst mit Voranmeldung.
URL:https://bergstedter-schachklub.de/event/jugendschach-58/
LOCATION:Gemeindehaus der Bergstedter Kirche\, Volksdorfer Damm 268\, Hamburg\, 22395\, Deutschland
CATEGORIES:Jugendtraining
END:VEVENT
BEGIN:VEVENT
DTSTART;TZID=Europe/Berlin:20221025T190000
DTEND;TZID=Europe/Berlin:20221025T190000
DTSTAMP:20260419T152345
CREATED:20221010T184958Z
LAST-MODIFIED:20221010T184958Z
UID:4212-1666724400-1666724400@bergstedter-schachklub.de
SUMMARY:Spielabend dienstags ab 19:00 Uhr
DESCRIPTION:Liebe Schachfreunde\, \nunser Spielabend findet ab sofort dienstags um 19 Uhr im Gemeindeshaus der Bergstedter Kirche statt! (*) \nKommt gerne bei uns vorbei! \nMit schachlichen Grüßen\nDer Vorstand des Bergstedter SK \n  \n* = Ausnahme: 1. Dienstag im Monat: kein Schach vor Ort\, sondern Online-Spielabend\, Videokonferenz (Teams) und Lichess. Wer mitspielen möchte\, meldet sich einfach bei uns.
URL:https://bergstedter-schachklub.de/event/spielabend-dienstags-ab-1900-uhr-3/
LOCATION:Gemeindehaus der Bergstedter Kirche\, Volksdorfer Damm 268\, Hamburg\, 22395\, Deutschland
CATEGORIES:Training
END:VEVENT
BEGIN:VEVENT
DTSTART;TZID=Europe/Berlin:20221019T163000
DTEND;TZID=Europe/Berlin:20221019T183000
DTSTAMP:20260419T152345
CREATED:20221010T184846Z
LAST-MODIFIED:20221010T184846Z
UID:4217-1666197000-1666204200@bergstedter-schachklub.de
SUMMARY:Jugendschach
DESCRIPTION:Schach für Jugendliche geht nach langer „Corona-Pause“ weiter! \nJugendliche Gäste sind natürlich herzlich willkommen! \nTeilnahme möglichst mit Voranmeldung.
URL:https://bergstedter-schachklub.de/event/jugendschach-57/
LOCATION:Gemeindehaus der Bergstedter Kirche\, Volksdorfer Damm 268\, Hamburg\, 22395\, Deutschland
CATEGORIES:Jugendtraining
END:VEVENT
END:VCALENDAR