BEGIN:VCALENDAR
VERSION:2.0
PRODID:-//Bergstedter Schachklub - ECPv6.15.20//NONSGML v1.0//EN
CALSCALE:GREGORIAN
METHOD:PUBLISH
X-WR-CALNAME:Bergstedter Schachklub
X-ORIGINAL-URL:https://bergstedter-schachklub.de
X-WR-CALDESC:Veranstaltungen für Bergstedter Schachklub
REFRESH-INTERVAL;VALUE=DURATION:PT1H
X-Robots-Tag:noindex
X-PUBLISHED-TTL:PT1H
BEGIN:VTIMEZONE
TZID:Europe/Berlin
BEGIN:DAYLIGHT
TZOFFSETFROM:+0100
TZOFFSETTO:+0200
TZNAME:CEST
DTSTART:20200329T010000
END:DAYLIGHT
BEGIN:STANDARD
TZOFFSETFROM:+0200
TZOFFSETTO:+0100
TZNAME:CET
DTSTART:20201025T010000
END:STANDARD
BEGIN:DAYLIGHT
TZOFFSETFROM:+0100
TZOFFSETTO:+0200
TZNAME:CEST
DTSTART:20210328T010000
END:DAYLIGHT
BEGIN:STANDARD
TZOFFSETFROM:+0200
TZOFFSETTO:+0100
TZNAME:CET
DTSTART:20211031T010000
END:STANDARD
BEGIN:DAYLIGHT
TZOFFSETFROM:+0100
TZOFFSETTO:+0200
TZNAME:CEST
DTSTART:20220327T010000
END:DAYLIGHT
BEGIN:STANDARD
TZOFFSETFROM:+0200
TZOFFSETTO:+0100
TZNAME:CET
DTSTART:20221030T010000
END:STANDARD
END:VTIMEZONE
BEGIN:VEVENT
DTSTART;TZID=Europe/Berlin:20210915T163000
DTEND;TZID=Europe/Berlin:20210915T183000
DTSTAMP:20260423T152033
CREATED:20210909T202552Z
LAST-MODIFIED:20210909T202552Z
UID:3868-1631723400-1631730600@bergstedter-schachklub.de
SUMMARY:Jugendschach
DESCRIPTION:Schach für Jugendliche geht nach langer „Corona-Pause“ weiter! \nTeilnahme möglichst mit Voranmeldung. \nJugendliche Gäste sind natürlich herzlich willkommen!
URL:https://bergstedter-schachklub.de/event/jugendschach-5/
LOCATION:Gemeindehaus der Bergstedter Kirche\, Volksdorfer Damm 268\, Hamburg\, 22395\, Deutschland
CATEGORIES:Jugendtraining
END:VEVENT
END:VCALENDAR